BEGIN:VCALENDAR
VERSION:2.0
PRODID:-//Plone.org//NONSGML plone.app.event//EN
X-WR-TIMEZONE:Europe/Madrid
BEGIN:VEVENT
SUMMARY:LA CASTANYADA TERRORÍFICA
DTSTART;TZID=Europe/Madrid;VALUE=DATE-TIME:20181031T173000
DTEND;TZID=Europe/Madrid;VALUE=DATE-TIME:20181031T183000
DTSTAMP;VALUE=DATE-TIME:20260423T033849Z
UID:7206f95e28b934533a9edd3a7f26c78c
CREATED;VALUE=DATE-TIME:20181031T000000Z
CATEGORIES:Cinema,Festa
LOCATION:Espai Jove - Crtra. N II, Km 654
ORGANIZER:Àrea de Joventut
COMMENT:Preu: Gratuït
URL:https://caldetes.cat/document.php?id=6888
END:VEVENT
END:VCALENDAR