BEGIN:VCALENDAR
VERSION:2.0
PRODID:-//Plone.org//NONSGML plone.app.event//EN
X-WR-TIMEZONE:Europe/Madrid
BEGIN:VEVENT
SUMMARY:Curs Ocupacional d'Atenció Domiciliària -Cangurs-
DTSTART;TZID=Europe/Madrid;VALUE=DATE-TIME:20181117T100000
DTEND;TZID=Europe/Madrid;VALUE=DATE-TIME:20181117T110000
DTSTAMP;VALUE=DATE-TIME:20260423T012324Z
UID:55b0022ad527d28394bd0f7dcc7198b7
CREATED;VALUE=DATE-TIME:20181117T000000Z
CATEGORIES:Cursos
LOCATION:Espai Jove - Crtra. N II, Km 654
ORGANIZER:Àrea de Joventut
COMMENT:Preu: Gratuït
Durada: de 10h a 14h i de 16h a 20h
DESCRIPTION:T'agradaria fer de cangur? Tingues tota la formació necessària
URL:https://caldetes.cat/document.php?id=6890
END:VEVENT
END:VCALENDAR