BEGIN:VCALENDAR
VERSION:2.0
PRODID:-//Plone.org//NONSGML plone.app.event//EN
X-WR-TIMEZONE:Europe/Madrid
BEGIN:VEVENT
SUMMARY:CAMPANYA DONACIÓ DE SANG
DTSTART;TZID=Europe/Madrid;VALUE=DATE-TIME:20181103T100000
DTEND;TZID=Europe/Madrid;VALUE=DATE-TIME:20181103T110000
DTSTAMP;VALUE=DATE-TIME:20260425T182909Z
UID:3353d31afc603456e933a2ac15c280e0
CREATED;VALUE=DATE-TIME:20181103T000000Z
LOCATION:Plaça de les Barques
ORGANIZER:ASSOCIACIÓ DE DONANTS DE SANG DEL MARESME
COMMENT:Durada: 10H  a 14H.
DESCRIPTION:DONA EL MILLOR DE TÚ DONA SANG
URL:https://caldetes.cat/document.php?id=6896
END:VEVENT
END:VCALENDAR