BEGIN:VCALENDAR
VERSION:2.0
PRODID:-//Plone.org//NONSGML plone.app.event//EN
X-WR-TIMEZONE:Europe/Madrid
BEGIN:VEVENT
SUMMARY:L'ALQUIMIA TÉ UN COLOR
DTSTART;TZID=Europe/Madrid;VALUE=DATE-TIME:20181117T113000
DTEND;TZID=Europe/Madrid;VALUE=DATE-TIME:20181117T123000
DTSTAMP;VALUE=DATE-TIME:20260421T123117Z
UID:79b59065421785c867a97347bfabef4c
CREATED;VALUE=DATE-TIME:20181117T000000Z
CATEGORIES:Cursos
LOCATION:Fundació Palau - La Riera, 54
ORGANIZER:Fundació Palau i Ajuntament de Caldes d'Estrac
COMMENT:Preu: 8 euros
Durada: 2 hores
DESCRIPTION:TALLER FOTOGRÀFIC
URL:https://caldetes.cat/document.php?id=6912
END:VEVENT
END:VCALENDAR