BEGIN:VCALENDAR
VERSION:2.0
PRODID:-//Plone.org//NONSGML plone.app.event//EN
X-WR-TIMEZONE:Europe/Madrid
BEGIN:VEVENT
SUMMARY:ART, VERMUTH & MUSIC
DTSTART;TZID=Europe/Madrid;VALUE=DATE-TIME:20181216T113000
DTEND;TZID=Europe/Madrid;VALUE=DATE-TIME:20181216T123000
DTSTAMP;VALUE=DATE-TIME:20260421T230004Z
UID:2e0effff452d98f7967c909826fd1094
CREATED;VALUE=DATE-TIME:20181118T000000Z
LOCATION:Fundació Palau - La Riera, 54
ORGANIZER:Fundació Palau i Hotel Dynamic
COMMENT:Preu: 10 euros
DESCRIPTION:TOS ELS DIUMENGES
URL:https://caldetes.cat/document.php?id=6915
END:VEVENT
END:VCALENDAR