BEGIN:VCALENDAR
VERSION:2.0
PRODID:-//Plone.org//NONSGML plone.app.event//EN
X-WR-TIMEZONE:Europe/Madrid
BEGIN:VEVENT
SUMMARY:Concert de Gala de Santa LLúcia -Orquestra Titanium
DTSTART;TZID=Europe/Madrid;VALUE=DATE-TIME:20181213T200000
DTEND;TZID=Europe/Madrid;VALUE=DATE-TIME:20181213T210000
DTSTAMP;VALUE=DATE-TIME:20260422T141035Z
UID:6203124509bcb4d69cdc7446a441a261
CREATED;VALUE=DATE-TIME:20181213T000000Z
CATEGORIES:Festa,Música
LOCATION:Sala Cultural - 1r pis de l'Ajuntament de Caldes d'Estrac, Pl. de la Vila s/n
COMMENT:Preu: Gratuít
DESCRIPTION:Tot seguit petit refrigeri de Festa Major
URL:https://caldetes.cat/document.php?id=6929
END:VEVENT
END:VCALENDAR