BEGIN:VCALENDAR
VERSION:2.0
PRODID:-//Plone.org//NONSGML plone.app.event//EN
X-WR-TIMEZONE:Europe/Madrid
BEGIN:VEVENT
SUMMARY:"7 Ratolins" Espectacle familar de titelles
DTSTART;TZID=Europe/Madrid;VALUE=DATE-TIME:20181229T180000
DTEND;TZID=Europe/Madrid;VALUE=DATE-TIME:20181229T190000
DTSTAMP;VALUE=DATE-TIME:20260424T213945Z
UID:b1c1639b6c8517b5c80cab7661dfd02e
CREATED;VALUE=DATE-TIME:20181229T000000Z
CATEGORIES:Infantils
LOCATION:Sala Cultural - 1r pis de l'Ajuntament de Caldes d'Estrac, Pl. de la Vila s/n
ORGANIZER:A càrrec de la Companyia Petit Bonhom
COMMENT:Preu: 3 &euro; a favor de la MARATÓ TV3
URL:https://caldetes.cat/document.php?id=6942
END:VEVENT
END:VCALENDAR