BEGIN:VCALENDAR
VERSION:2.0
PRODID:-//Plone.org//NONSGML plone.app.event//EN
X-WR-TIMEZONE:Europe/Madrid
BEGIN:VEVENT
SUMMARY:CH Llavaneres Maresme - CH Martorell
DTSTART;TZID=Europe/Madrid;VALUE=DATE-TIME:20181202T183000
DTEND;TZID=Europe/Madrid;VALUE=DATE-TIME:20181202T193000
DTSTAMP;VALUE=DATE-TIME:20260424T013355Z
UID:0a1f535f7e72be4300dfd2f9ecc982ca
CREATED;VALUE=DATE-TIME:20181202T000000Z
CATEGORIES:Esports
LOCATION:Pavelló Poliesportiu Municipal - Carretera N-II, km 654
ORGANIZER:CH Llavaneres
COMMENT:Preu: Gratuït
DESCRIPTION:El sènior femení rep al líder
URL:https://caldetes.cat/document.php?id=6947
END:VEVENT
END:VCALENDAR