BEGIN:VCALENDAR
VERSION:2.0
PRODID:-//Plone.org//NONSGML plone.app.event//EN
X-WR-TIMEZONE:Europe/Madrid
BEGIN:VEVENT
SUMMARY:Sessió participativa per a la sostenbilitat i comerç local
DTSTART;TZID=Europe/Madrid;VALUE=DATE-TIME:20181204T120000
DTEND;TZID=Europe/Madrid;VALUE=DATE-TIME:20181204T130000
DTSTAMP;VALUE=DATE-TIME:20260421T161417Z
UID:51281295255246b0344b9710ec685194
CREATED;VALUE=DATE-TIME:20181204T000000Z
CATEGORIES:Conferència
LOCATION:Ajuntament - Plaça de la Vila s/n
ORGANIZER:Ajuntament de Caldes d'Estrac amb la col·laboració de MicroRegió Maresme, Plataforma de Compres col·lectives, Ecocashback, Parc del Sentits
COMMENT:Durada: 2 hores
URL:https://caldetes.cat/document.php?id=6949
END:VEVENT
END:VCALENDAR