BEGIN:VCALENDAR
VERSION:2.0
PRODID:-//Plone.org//NONSGML plone.app.event//EN
X-WR-TIMEZONE:Europe/Madrid
BEGIN:VEVENT
SUMMARY:PROMOCIÓ GENER 2019
DTSTART;TZID=Europe/Madrid;VALUE=DATE-TIME:20190131T235500
DTEND;TZID=Europe/Madrid;VALUE=DATE-TIME:20190201T005500
DTSTAMP;VALUE=DATE-TIME:20260423T003547Z
UID:09d9782ce61477a04e975235e9b6a217
CREATED;VALUE=DATE-TIME:20190104T000000Z
CATEGORIES:Esports
LOCATION:Complex Esportiu Municipal
ORGANIZER:SIGE 2005, S.L.
COMMENT:Durada: Fins el 31 de gener de 2019
DESCRIPTION:ANY NOU, NOUS PROPÒSITS!!!
URL:https://caldetes.cat/document.php?id=6984
END:VEVENT
END:VCALENDAR