BEGIN:VCALENDAR
VERSION:2.0
PRODID:-//Plone.org//NONSGML plone.app.event//EN
X-WR-TIMEZONE:Europe/Madrid
BEGIN:VEVENT
SUMMARY:EXPOSICIÓ: "Pedrolo, més enllà dels límits"
DTSTART;TZID=Europe/Madrid;VALUE=DATE-TIME:20190121T000000
DTEND;TZID=Europe/Madrid;VALUE=DATE-TIME:20190121T010000
DTSTAMP;VALUE=DATE-TIME:20260419T221824Z
UID:31996f032e3e3aaa8a862290ab85ed31
CREATED;VALUE=DATE-TIME:20190121T000000Z
CATEGORIES:Exposició
LOCATION:Biblioteca Can Milans - C/ Esglèsia, 6
ORGANIZER:Biblioteca Can Milans, Generalitat de Catalunya i Diputació de Barcelona
URL:https://caldetes.cat/document.php?id=6987
END:VEVENT
END:VCALENDAR