BEGIN:VCALENDAR
VERSION:2.0
PRODID:-//Plone.org//NONSGML plone.app.event//EN
X-WR-TIMEZONE:Europe/Madrid
BEGIN:VEVENT
SUMMARY:CLUB DE LECTURA: "14" de Jean Echenoz.
DTSTART;TZID=Europe/Madrid;VALUE=DATE-TIME:20190202T110000
DTEND;TZID=Europe/Madrid;VALUE=DATE-TIME:20190202T120000
DTSTAMP;VALUE=DATE-TIME:20260422T083944Z
UID:9d6153a1ffb0f6aa95b196dab3ef3b21
CREATED;VALUE=DATE-TIME:20190202T000000Z
CATEGORIES:Literatura
LOCATION:Biblioteca Can Milans - C/ Esglèsia, 6
ORGANIZER:Biblioteca Can Milans
COMMENT:Preu: Gratuït
DESCRIPTION:Trobada bimensual del Club de Lectura de Caldes
URL:https://caldetes.cat/document.php?id=6992
END:VEVENT
END:VCALENDAR