BEGIN:VCALENDAR
VERSION:2.0
PRODID:-//Plone.org//NONSGML plone.app.event//EN
X-WR-TIMEZONE:Europe/Madrid
BEGIN:VEVENT
SUMMARY:VISITA ESCOLAR. Escola Sagrada Família
DTSTART;TZID=Europe/Madrid;VALUE=DATE-TIME:20190206T100000
DTEND;TZID=Europe/Madrid;VALUE=DATE-TIME:20190206T110000
DTSTAMP;VALUE=DATE-TIME:20260419T234131Z
UID:213ae6553c31c2398e465cee00be0119
CREATED;VALUE=DATE-TIME:20190206T000000Z
CATEGORIES:Literatura,Infantils
LOCATION:Biblioteca Can Milans - C/ Esglèsia, 6
ORGANIZER:Biblioteca Can Milans i Escola Sagrada Família
DESCRIPTION:Els nens/es de 3r visiten la biblioteca
URL:https://caldetes.cat/document.php?id=6998
END:VEVENT
END:VCALENDAR