BEGIN:VCALENDAR
VERSION:2.0
PRODID:-//Plone.org//NONSGML plone.app.event//EN
X-WR-TIMEZONE:Europe/Madrid
BEGIN:VEVENT
SUMMARY:VISITA ESCOLAR. Escola Sagrada Família
DTSTART;TZID=Europe/Madrid;VALUE=DATE-TIME:20190213T100000
DTEND;TZID=Europe/Madrid;VALUE=DATE-TIME:20190213T110000
DTSTAMP;VALUE=DATE-TIME:20260425T003625Z
UID:c4caef3a6b569bd5d4f98698fe7fc117
CREATED;VALUE=DATE-TIME:20190213T000000Z
CATEGORIES:Literatura,Infantils
LOCATION:Biblioteca Can Milans - C/ Esglèsia, 6
ORGANIZER:Biblioteca Can Milans
DESCRIPTION:Els nens/es de 4t visiten la biblioteca
URL:https://caldetes.cat/document.php?id=6999
END:VEVENT
END:VCALENDAR