BEGIN:VCALENDAR
VERSION:2.0
PRODID:-//Plone.org//NONSGML plone.app.event//EN
X-WR-TIMEZONE:Europe/Madrid
BEGIN:VEVENT
SUMMARY:VISITA ESCOLAR. Escola Sagrada Família
DTSTART;TZID=Europe/Madrid;VALUE=DATE-TIME:20190313T100000
DTEND;TZID=Europe/Madrid;VALUE=DATE-TIME:20190313T110000
DTSTAMP;VALUE=DATE-TIME:20260423T061630Z
UID:578d1169454193186149bb35ccc738c4
CREATED;VALUE=DATE-TIME:20190313T000000Z
CATEGORIES:Literatura,Infantils
LOCATION:Biblioteca Can Milans - C/ Esglèsia, 6
ORGANIZER:Biblioteca Can Milans i Escola Sagrada Família
DESCRIPTION:Els nens/es de P4 visiten la biblioteca
URL:https://caldetes.cat/document.php?id=7004
END:VEVENT
END:VCALENDAR