BEGIN:VCALENDAR
VERSION:2.0
PRODID:-//Plone.org//NONSGML plone.app.event//EN
X-WR-TIMEZONE:Europe/Madrid
BEGIN:VEVENT
SUMMARY:Ruta de la tapa del pèsol
DTSTART;TZID=Europe/Madrid;VALUE=DATE-TIME:20190303T120000
DTEND;TZID=Europe/Madrid;VALUE=DATE-TIME:20190303T130000
DTSTAMP;VALUE=DATE-TIME:20260424T112722Z
UID:952d2ec850907b86a8556c1103c753e4
CREATED;VALUE=DATE-TIME:20190303T000000Z
CATEGORIES:Mostra
LOCATION:restaurants adherits a la Pesoalda
ORGANIZER:Ajuntament i Associó de restauradors
COMMENT:Preu: 5&euro;
Durada: 12:00 a 15:00
URL:https://caldetes.cat/document.php?id=7036
END:VEVENT
END:VCALENDAR