BEGIN:VCALENDAR
VERSION:2.0
PRODID:-//Plone.org//NONSGML plone.app.event//EN
X-WR-TIMEZONE:Europe/Madrid
BEGIN:VEVENT
SUMMARY:PROMOCIÓ FEBRER 2019
DTSTART;TZID=Europe/Madrid;VALUE=DATE-TIME:20190228T000000
DTEND;TZID=Europe/Madrid;VALUE=DATE-TIME:20190228T010000
DTSTAMP;VALUE=DATE-TIME:20260421T144139Z
UID:2e10cebd9d43c4b8b0065167d1b73edf
CREATED;VALUE=DATE-TIME:20190201T000000Z
CATEGORIES:Esports
LOCATION:Complex Esportiu Municipal
ORGANIZER:SIGE 2005, S.L.
COMMENT:Durada: Fins el 28 de febrer de 2019
DESCRIPTION:PERSEGUEIX ELS TEUS OBJECTIUS!
URL:https://caldetes.cat/document.php?id=7046
END:VEVENT
END:VCALENDAR