BEGIN:VCALENDAR
VERSION:2.0
PRODID:-//Plone.org//NONSGML plone.app.event//EN
X-WR-TIMEZONE:Europe/Madrid
BEGIN:VEVENT
SUMMARY:PREGÓ DE CARNAVAL, A càrrec de Ull Distret
DTSTART;TZID=Europe/Madrid;VALUE=DATE-TIME:20190302T220000
DTEND;TZID=Europe/Madrid;VALUE=DATE-TIME:20190302T230000
DTSTAMP;VALUE=DATE-TIME:20260423T175951Z
UID:963b1d7c6f3a644fdcd7f49889a7ea35
CREATED;VALUE=DATE-TIME:20190302T000000Z
CATEGORIES:Festa
LOCATION:Plaça de la Vila
ORGANIZER:ÀREA DE CULTURA
DESCRIPTION:I ENTREGA DE PREMIS DEL IV CONCURS I DISFRESSES
URL:https://caldetes.cat/document.php?id=7061
END:VEVENT
END:VCALENDAR