BEGIN:VCALENDAR
VERSION:2.0
PRODID:-//Plone.org//NONSGML plone.app.event//EN
X-WR-TIMEZONE:Europe/Madrid
BEGIN:VEVENT
SUMMARY:Berenar intercultural de Dones
DTSTART;TZID=Europe/Madrid;VALUE=DATE-TIME:20190309T170000
DTEND;TZID=Europe/Madrid;VALUE=DATE-TIME:20190309T180000
DTSTAMP;VALUE=DATE-TIME:20260423T120230Z
UID:282c6929fa0e88684a1499024dfb6647
CREATED;VALUE=DATE-TIME:20190309T000000Z
LOCATION:Plaça de la Vila
ORGANIZER:Ajuntament de Caldes d'Estrac
URL:https://caldetes.cat/document.php?id=7088
END:VEVENT
END:VCALENDAR