BEGIN:VCALENDAR
VERSION:2.0
PRODID:-//Plone.org//NONSGML plone.app.event//EN
X-WR-TIMEZONE:Europe/Madrid
BEGIN:VEVENT
SUMMARY:Per la Fira d'Entitats
DTSTART;TZID=Europe/Madrid;VALUE=DATE-TIME:20190428T100000
DTEND;TZID=Europe/Madrid;VALUE=DATE-TIME:20190428T110000
DTSTAMP;VALUE=DATE-TIME:20260422T105822Z
UID:f69e243e4639546c59b3305918a0cc5d
CREATED;VALUE=DATE-TIME:20190428T000000Z
CATEGORIES:Exposició,Mostra
LOCATION:Esplanada Can Muntanyà
ORGANIZER:Regidoria de Cultura. Biblioteca Can Milans
COMMENT:Durada: De 10 a 14h
DESCRIPTION:LA BIBLIOTECA AL CARRER!
URL:https://caldetes.cat/document.php?id=7108
END:VEVENT
END:VCALENDAR