BEGIN:VCALENDAR
VERSION:2.0
PRODID:-//Plone.org//NONSGML plone.app.event//EN
X-WR-TIMEZONE:Europe/Madrid
BEGIN:VEVENT
SUMMARY:Petanca. Campionat social de dobletes masculines
DTSTART;TZID=Europe/Madrid;VALUE=DATE-TIME:20100816T000000
DTEND;TZID=Europe/Madrid;VALUE=DATE-TIME:20100816T010000
DTSTAMP;VALUE=DATE-TIME:20260422T040807Z
UID:fbeeea7678d8dec477ad96253ee122aa
CREATED;VALUE=DATE-TIME:20100816T000000Z
LOCATION:Pistes Municipals de Petanca
ORGANIZER:Club Petanca Caldes d'Estrac
URL:https://caldetes.cat/document.php?id=717
END:VEVENT
END:VCALENDAR