BEGIN:VCALENDAR
VERSION:2.0
PRODID:-//Plone.org//NONSGML plone.app.event//EN
X-WR-TIMEZONE:Europe/Madrid
BEGIN:VEVENT
SUMMARY:LLUÏMENT DELS DIABLONS DE CALDES D'ESTRAC
DTSTART;TZID=Europe/Madrid;VALUE=DATE-TIME:20190427T200000
DTEND;TZID=Europe/Madrid;VALUE=DATE-TIME:20190427T210000
DTSTAMP;VALUE=DATE-TIME:20260424T113804Z
UID:ca48b07b2f07a8a39a3bda0dbf1b2f9f
CREATED;VALUE=DATE-TIME:20190427T000000Z
CATEGORIES:Infantils
LOCATION:Esplanada Can Muntanyà
ORGANIZER:Colla de Diables Estrac
DESCRIPTION:3a FIRA ENTITATS 2019
URL:https://caldetes.cat/document.php?id=7175
END:VEVENT
END:VCALENDAR