BEGIN:VCALENDAR
VERSION:2.0
PRODID:-//Plone.org//NONSGML plone.app.event//EN
X-WR-TIMEZONE:Europe/Madrid
BEGIN:VEVENT
SUMMARY:Petanca. Campionat social de dobletes masculines
DTSTART;TZID=Europe/Madrid;VALUE=DATE-TIME:20100818T000000
DTEND;TZID=Europe/Madrid;VALUE=DATE-TIME:20100818T010000
DTSTAMP;VALUE=DATE-TIME:20260423T033227Z
UID:3759f729943c796fb333935096a9bdbe
CREATED;VALUE=DATE-TIME:20100818T000000Z
LOCATION:Pistes Municipals de Petanca
ORGANIZER:Club Petanca Caldes d'Estrac
URL:https://caldetes.cat/document.php?id=718
END:VEVENT
END:VCALENDAR