BEGIN:VCALENDAR
VERSION:2.0
PRODID:-//Plone.org//NONSGML plone.app.event//EN
X-WR-TIMEZONE:Europe/Madrid
BEGIN:VEVENT
SUMMARY:Petanca. Torneig Súper Campions
DTSTART;TZID=Europe/Madrid;VALUE=DATE-TIME:20100826T000000
DTEND;TZID=Europe/Madrid;VALUE=DATE-TIME:20100826T010000
DTSTAMP;VALUE=DATE-TIME:20260421T140158Z
UID:f8862d88305ede79381de6b91951147f
CREATED;VALUE=DATE-TIME:20100826T000000Z
LOCATION:Pistes Municipals de Petanca
ORGANIZER:Club Petanca Caldes d'Estrac
URL:https://caldetes.cat/document.php?id=721
END:VEVENT
END:VCALENDAR