BEGIN:VCALENDAR
VERSION:2.0
PRODID:-//Plone.org//NONSGML plone.app.event//EN
X-WR-TIMEZONE:Europe/Madrid
BEGIN:VEVENT
SUMMARY:Parada de Productes de l'Índia
DTSTART;TZID=Europe/Madrid;VALUE=DATE-TIME:20100905T110000
DTEND;TZID=Europe/Madrid;VALUE=DATE-TIME:20100905T120000
DTSTAMP;VALUE=DATE-TIME:20260421T225243Z
UID:a8a8545a374442c93c78e176c6e30f4d
CREATED;VALUE=DATE-TIME:20100905T000000Z
LOCATION:Parc Joan Maragall
ORGANIZER:Associació "El Somriure dels Nens"
COMMENT:Durada: 3:30 hores
URL:https://caldetes.cat/document.php?id=723
END:VEVENT
END:VCALENDAR