BEGIN:VCALENDAR
VERSION:2.0
PRODID:-//Plone.org//NONSGML plone.app.event//EN
X-WR-TIMEZONE:Europe/Madrid
BEGIN:VEVENT
SUMMARY:EXPOSICIÓ: &OpenCurlyDoubleQuote;Brossa polièdric"
DTSTART;TZID=Europe/Madrid;VALUE=DATE-TIME:20190826T143000
DTEND;TZID=Europe/Madrid;VALUE=DATE-TIME:20190826T153000
DTSTAMP;VALUE=DATE-TIME:20260421T104835Z
UID:691de7cf7483f9805efe119438ddf2b5
CREATED;VALUE=DATE-TIME:20190731T000000Z
CATEGORIES:Exposició,Mostra
LOCATION:Biblioteca Can Milans - C/ Esglèsia, 6
ORGANIZER:Biblioteca Can Milans
COMMENT:Preu: Gratuït
Durada: De dilluns a divendres, de 15:30 a 20:30h.
DESCRIPTION:Produïda per la Fundació Joan Brossa
URL:https://caldetes.cat/document.php?id=7252
END:VEVENT
END:VCALENDAR