BEGIN:VCALENDAR
VERSION:2.0
PRODID:-//Plone.org//NONSGML plone.app.event//EN
X-WR-TIMEZONE:Europe/Madrid
BEGIN:VEVENT
SUMMARY:BIBLIOLAB/ Taller de creació poètica.
DTSTART;TZID=Europe/Madrid;VALUE=DATE-TIME:20190928T110000
DTEND;TZID=Europe/Madrid;VALUE=DATE-TIME:20190928T120000
DTSTAMP;VALUE=DATE-TIME:20260423T033542Z
UID:b05bd4c08a2d9e96bd801d489e2dd62f
CREATED;VALUE=DATE-TIME:20190928T000000Z
CATEGORIES:Literatura
LOCATION:Biblioteca Can Milans - C/ Esglèsia, 6
ORGANIZER:Biblioteca Can Milans
COMMENT:Preu: Gratuït. Activitat amb inscripció prèvia
DESCRIPTION:&OpenCurlyDoubleQuote;Des Brossa´m&CloseCurlyDoubleQuote; per a adults.
URL:https://caldetes.cat/document.php?id=7255
END:VEVENT
END:VCALENDAR