BEGIN:VCALENDAR
VERSION:2.0
PRODID:-//Plone.org//NONSGML plone.app.event//EN
X-WR-TIMEZONE:Europe/Madrid
BEGIN:VEVENT
SUMMARY:Taller: "Som creatius"
DTSTART;TZID=Europe/Madrid;VALUE=DATE-TIME:20100812T170000
DTEND;TZID=Europe/Madrid;VALUE=DATE-TIME:20100812T180000
DTSTAMP;VALUE=DATE-TIME:20260422T163934Z
UID:a0a3145a0141c2519a471acd544db69a
CREATED;VALUE=DATE-TIME:20100812T000000Z
LOCATION:Equipament de Promoció Econòmica i Cultural
ORGANIZER:Regidoria de Serveis Socials
URL:https://caldetes.cat/document.php?id=728
END:VEVENT
END:VCALENDAR