BEGIN:VCALENDAR
VERSION:2.0
PRODID:-//Plone.org//NONSGML plone.app.event//EN
X-WR-TIMEZONE:Europe/Madrid
BEGIN:VEVENT
SUMMARY:Nit de Jazz a la Pèrgola
DTSTART;TZID=Europe/Madrid;VALUE=DATE-TIME:20100814T223000
DTEND;TZID=Europe/Madrid;VALUE=DATE-TIME:20100814T233000
DTSTAMP;VALUE=DATE-TIME:20260426T000646Z
UID:3ba756945e588639f95289bb0b876868
CREATED;VALUE=DATE-TIME:20100814T000000Z
CATEGORIES:Música
LOCATION:Pèrgola Can Muntanyà
ORGANIZER:Arrels Cultura
DESCRIPTION:Toni Solà / Dave Mitchell Quartet
URL:https://caldetes.cat/document.php?id=729
END:VEVENT
END:VCALENDAR