BEGIN:VCALENDAR
VERSION:2.0
PRODID:-//Plone.org//NONSGML plone.app.event//EN
X-WR-TIMEZONE:Europe/Madrid
BEGIN:VEVENT
SUMMARY:Taller: "Som creatius" i reciclem
DTSTART;TZID=Europe/Madrid;VALUE=DATE-TIME:20100819T170000
DTEND;TZID=Europe/Madrid;VALUE=DATE-TIME:20100819T180000
DTSTAMP;VALUE=DATE-TIME:20260423T135829Z
UID:0784bdaf63cb11c434e3d2aefad0be49
CREATED;VALUE=DATE-TIME:20100819T000000Z
LOCATION:Equipament de Promoció Econòmica i Cultural
ORGANIZER:Regidoria de Serveis Socials
URL:https://caldetes.cat/document.php?id=731
END:VEVENT
END:VCALENDAR