BEGIN:VCALENDAR
VERSION:2.0
PRODID:-//Plone.org//NONSGML plone.app.event//EN
X-WR-TIMEZONE:Europe/Madrid
BEGIN:VEVENT
SUMMARY:Petanca. Assamblea General
DTSTART;TZID=Europe/Madrid;VALUE=DATE-TIME:20100821T180000
DTEND;TZID=Europe/Madrid;VALUE=DATE-TIME:20100821T190000
DTSTAMP;VALUE=DATE-TIME:20260425T142721Z
UID:95dd0307e9715f9bd2f14c793fa3f1d2
CREATED;VALUE=DATE-TIME:20100821T000000Z
LOCATION:Equipament de Promoció Econòmica i Cultural
ORGANIZER:Club Petanca Caldes d'Estrac
URL:https://caldetes.cat/document.php?id=732
END:VEVENT
END:VCALENDAR