BEGIN:VCALENDAR
VERSION:2.0
PRODID:-//Plone.org//NONSGML plone.app.event//EN
X-WR-TIMEZONE:Europe/Madrid
BEGIN:VEVENT
SUMMARY:Fira de pintura
DTSTART;TZID=Europe/Madrid;VALUE=DATE-TIME:20100822T000000
DTEND;TZID=Europe/Madrid;VALUE=DATE-TIME:20100822T010000
DTSTAMP;VALUE=DATE-TIME:20260423T061818Z
UID:b0e2fd7282671765d9d0ff0efe8f503b
CREATED;VALUE=DATE-TIME:20100822T000000Z
CATEGORIES:Exposició
LOCATION:Passeig dels Anglesos
ORGANIZER:Arrels Cultura
DESCRIPTION:Al passeig dels Anglesos
URL:https://caldetes.cat/document.php?id=733
END:VEVENT
END:VCALENDAR