BEGIN:VCALENDAR
VERSION:2.0
PRODID:-//Plone.org//NONSGML plone.app.event//EN
X-WR-TIMEZONE:Europe/Madrid
BEGIN:VEVENT
SUMMARY:Fira d'alimentació i artesans
DTSTART;TZID=Europe/Madrid;VALUE=DATE-TIME:20100822T000000
DTEND;TZID=Europe/Madrid;VALUE=DATE-TIME:20100822T010000
DTSTAMP;VALUE=DATE-TIME:20260423T161458Z
UID:f6e0984e702e0317a80792c3f4918735
CREATED;VALUE=DATE-TIME:20100822T000000Z
LOCATION:Parc Joan Maragall
ORGANIZER:Arrels Cultura
DESCRIPTION:Durant tot el dia
URL:https://caldetes.cat/document.php?id=734
END:VEVENT
END:VCALENDAR