BEGIN:VCALENDAR
VERSION:2.0
PRODID:-//Plone.org//NONSGML plone.app.event//EN
X-WR-TIMEZONE:Europe/Madrid
BEGIN:VEVENT
SUMMARY:Festa Major de Caldes d'Estrac
DTSTART;TZID=Europe/Madrid;VALUE=DATE-TIME:20190831T220000
DTEND;TZID=Europe/Madrid;VALUE=DATE-TIME:20190831T230000
DTSTAMP;VALUE=DATE-TIME:20260424T013123Z
UID:7b306ecd5b31b3f894229711aa5e0200
CREATED;VALUE=DATE-TIME:20190831T000000Z
CATEGORIES:Teatre
LOCATION:Pèrgola de Can Muntanyà
ORGANIZER:Associació Amics del Teatre de Caldes d'Estrac
COMMENT:Preu: 10 euros anticipada / 12 euros taquilla
DESCRIPTION:Gran espectacle teatral d'Estiu
URL:https://caldetes.cat/document.php?id=7372
END:VEVENT
END:VCALENDAR