BEGIN:VCALENDAR
VERSION:2.0
PRODID:-//Plone.org//NONSGML plone.app.event//EN
X-WR-TIMEZONE:Europe/Madrid
BEGIN:VEVENT
SUMMARY:Taller intergeneracional
DTSTART;TZID=Europe/Madrid;VALUE=DATE-TIME:20190925T170000
DTEND;TZID=Europe/Madrid;VALUE=DATE-TIME:20190925T180000
DTSTAMP;VALUE=DATE-TIME:20260424T200703Z
UID:8d19891ddbc56aca9a29caa03b080da9
CREATED;VALUE=DATE-TIME:20190925T000000Z
CATEGORIES:Cursos
LOCATION:Casal d'Avis
COMMENT:Durada: A partir de les 17h
DESCRIPTION:Noves tecnologies
URL:https://caldetes.cat/document.php?id=7389
END:VEVENT
END:VCALENDAR