BEGIN:VCALENDAR
VERSION:2.0
PRODID:-//Plone.org//NONSGML plone.app.event//EN
X-WR-TIMEZONE:Europe/Madrid
BEGIN:VEVENT
SUMMARY:Campionat Infantil de Petanca Torneig de Festa Major
DTSTART;TZID=Europe/Madrid;VALUE=DATE-TIME:20100828T170000
DTEND;TZID=Europe/Madrid;VALUE=DATE-TIME:20100828T180000
DTSTAMP;VALUE=DATE-TIME:20260422T155951Z
UID:17d86d9ae504989cd2ea42ccc9f57a7d
CREATED;VALUE=DATE-TIME:20100828T000000Z
LOCATION:Pistes Municipals de Petanca
ORGANIZER:Club Petanca Caldes d'Estrac
DESCRIPTION:Festa Major 2010
URL:https://caldetes.cat/document.php?id=739
END:VEVENT
END:VCALENDAR