BEGIN:VCALENDAR
VERSION:2.0
PRODID:-//Plone.org//NONSGML plone.app.event//EN
X-WR-TIMEZONE:Europe/Madrid
BEGIN:VEVENT
SUMMARY:Festa Major de Caldes d'Estrac
DTSTART;TZID=Europe/Madrid;VALUE=DATE-TIME:20190906T200000
DTEND;TZID=Europe/Madrid;VALUE=DATE-TIME:20190906T210000
DTSTAMP;VALUE=DATE-TIME:20260422T164004Z
UID:ec3b7263c107086e3bdfed11be77c409
CREATED;VALUE=DATE-TIME:20190906T000000Z
CATEGORIES:Festa
LOCATION:Riera (des de la Plaça de la Vila als Safareig)
ORGANIZER:Ajuntament de Caldes d'Estrac
COMMENT:Preu: 1 euro per cadira (aforament limitat)
DESCRIPTION:Sopar popular
URL:https://caldetes.cat/document.php?id=7398
END:VEVENT
END:VCALENDAR