BEGIN:VCALENDAR
VERSION:2.0
PRODID:-//Plone.org//NONSGML plone.app.event//EN
X-WR-TIMEZONE:Europe/Madrid
BEGIN:VEVENT
SUMMARY:Festa Major de Caldes d'Estrac
DTSTART;TZID=Europe/Madrid;VALUE=DATE-TIME:20190907T110000
DTEND;TZID=Europe/Madrid;VALUE=DATE-TIME:20190907T120000
DTSTAMP;VALUE=DATE-TIME:20260421T173742Z
UID:4faeb70d6fc1c67a2a530b59efe03b10
CREATED;VALUE=DATE-TIME:20190907T000000Z
CATEGORIES:Festa,Infantils
LOCATION:Esplanada Can Muntanyà - Carrer Santema
ORGANIZER:Ajuntament de Caldes d'Estrac
DESCRIPTION:Matí refrescant: Escumada - xeringada i tobogan d'aigua
URL:https://caldetes.cat/document.php?id=7399
END:VEVENT
END:VCALENDAR