BEGIN:VCALENDAR
VERSION:2.0
PRODID:-//Plone.org//NONSGML plone.app.event//EN
X-WR-TIMEZONE:Europe/Madrid
BEGIN:VEVENT
SUMMARY:XVI Torneig de Festa Major Futbol Sala
DTSTART;TZID=Europe/Madrid;VALUE=DATE-TIME:20100903T180000
DTEND;TZID=Europe/Madrid;VALUE=DATE-TIME:20100903T190000
DTSTAMP;VALUE=DATE-TIME:20260422T122846Z
UID:d40c5bcc771950be22eab7c40014f9c4
CREATED;VALUE=DATE-TIME:20100903T000000Z
LOCATION:Pavelló Poliesportiu Municipal
ORGANIZER:Club Caldes d'Estrac Futbol Sala amb la col·laboració de la Regidoria d'Esports
URL:https://caldetes.cat/document.php?id=740
END:VEVENT
END:VCALENDAR