BEGIN:VCALENDAR
VERSION:2.0
PRODID:-//Plone.org//NONSGML plone.app.event//EN
X-WR-TIMEZONE:Europe/Madrid
BEGIN:VEVENT
SUMMARY:Festa Major de Caldes d'Estrac
DTSTART;TZID=Europe/Madrid;VALUE=DATE-TIME:20190908T100000
DTEND;TZID=Europe/Madrid;VALUE=DATE-TIME:20190908T110000
DTSTAMP;VALUE=DATE-TIME:20260423T172317Z
UID:5df8af40475e99cf69a9ac5250c8b2ed
CREATED;VALUE=DATE-TIME:20190908T000000Z
CATEGORIES:Festa
LOCATION:Parròquia  de Santa Maria - Capelleta del Remei - Sala Cultural
DESCRIPTION:Mare de Déu del Remei
URL:https://caldetes.cat/document.php?id=7403
END:VEVENT
END:VCALENDAR