BEGIN:VCALENDAR
VERSION:2.0
PRODID:-//Plone.org//NONSGML plone.app.event//EN
X-WR-TIMEZONE:Europe/Madrid
BEGIN:VEVENT
SUMMARY:Festa Major de Caldes d'Estrac
DTSTART;TZID=Europe/Madrid;VALUE=DATE-TIME:20190908T180000
DTEND;TZID=Europe/Madrid;VALUE=DATE-TIME:20190908T190000
DTSTAMP;VALUE=DATE-TIME:20260423T185845Z
UID:7558d87b7e445f8dbe3ef01191537e7a
CREATED;VALUE=DATE-TIME:20190908T000000Z
CATEGORIES:Festa,Infantils
LOCATION:Esplanada Can Muntanyà
DESCRIPTION:Espectacle familiar
URL:https://caldetes.cat/document.php?id=7404
END:VEVENT
END:VCALENDAR