BEGIN:VCALENDAR
VERSION:2.0
PRODID:-//Plone.org//NONSGML plone.app.event//EN
X-WR-TIMEZONE:Europe/Madrid
BEGIN:VEVENT
SUMMARY:Festa Major de Caldes d'Estrac
DTSTART;TZID=Europe/Madrid;VALUE=DATE-TIME:20190908T210000
DTEND;TZID=Europe/Madrid;VALUE=DATE-TIME:20190908T220000
DTSTAMP;VALUE=DATE-TIME:20260423T074014Z
UID:c6b0b04bfecf83567070b1cea4d20fc0
CREATED;VALUE=DATE-TIME:20190908T000000Z
CATEGORIES:Festa
LOCATION:Plaça de les Barques i Riera fins arribar a la Plaça de la Vila
ORGANIZER:Ajuntament de Caldes d'Estrac amb la Colla de Diables d'Estrac
DESCRIPTION:Correfoc
URL:https://caldetes.cat/document.php?id=7405
END:VEVENT
END:VCALENDAR