BEGIN:VCALENDAR
VERSION:2.0
PRODID:-//Plone.org//NONSGML plone.app.event//EN
X-WR-TIMEZONE:Europe/Madrid
BEGIN:VEVENT
SUMMARY:Festa Major de Caldes d'Estrac
DTSTART;TZID=Europe/Madrid;VALUE=DATE-TIME:20190909T003000
DTEND;TZID=Europe/Madrid;VALUE=DATE-TIME:20190909T013000
DTSTAMP;VALUE=DATE-TIME:20260423T204837Z
UID:02ba3199bacd45a40eb50d29dd957b5e
CREATED;VALUE=DATE-TIME:20190909T000000Z
CATEGORIES:Festa,Música
LOCATION:Esplanada Can Muntanyà
DESCRIPTION:Nit dels fogalls
URL:https://caldetes.cat/document.php?id=7406
END:VEVENT
END:VCALENDAR