BEGIN:VCALENDAR
VERSION:2.0
PRODID:-//Plone.org//NONSGML plone.app.event//EN
X-WR-TIMEZONE:Europe/Madrid
BEGIN:VEVENT
SUMMARY:Festa Major de Caldes d'Estrac
DTSTART;TZID=Europe/Madrid;VALUE=DATE-TIME:20190911T110000
DTEND;TZID=Europe/Madrid;VALUE=DATE-TIME:20190911T120000
DTSTAMP;VALUE=DATE-TIME:20260421T200611Z
UID:26e3f9780573318ae2d605e0b81d9dac
CREATED;VALUE=DATE-TIME:20190911T000000Z
CATEGORIES:Festa
LOCATION:Pèrgola del Parc Can Muntanyà
DESCRIPTION:Diada Nacional de Catalunya
URL:https://caldetes.cat/document.php?id=7407
END:VEVENT
END:VCALENDAR