BEGIN:VCALENDAR
VERSION:2.0
PRODID:-//Plone.org//NONSGML plone.app.event//EN
X-WR-TIMEZONE:Europe/Madrid
BEGIN:VEVENT
SUMMARY:III Simultània d'escacs
DTSTART;TZID=Europe/Madrid;VALUE=DATE-TIME:20100905T100000
DTEND;TZID=Europe/Madrid;VALUE=DATE-TIME:20100905T110000
DTSTAMP;VALUE=DATE-TIME:20260421T212756Z
UID:43b3fadd32a72c7f6a3cf3e347e0af14
CREATED;VALUE=DATE-TIME:20100905T000000Z
LOCATION:Racó del Lledoner (entrada al Parc de Can Muntanyà)
ORGANIZER:Club d'Escacs Llavaneres amb la col·laboració de la regidoria d'esports
DESCRIPTION:Festa Major 2010
URL:https://caldetes.cat/document.php?id=741
END:VEVENT
END:VCALENDAR