BEGIN:VCALENDAR
VERSION:2.0
PRODID:-//Plone.org//NONSGML plone.app.event//EN
X-WR-TIMEZONE:Europe/Madrid
BEGIN:VEVENT
SUMMARY:Visita guiada per l'exposició "Insula Lux"
DTSTART;TZID=Europe/Madrid;VALUE=DATE-TIME:20190907T110000
DTEND;TZID=Europe/Madrid;VALUE=DATE-TIME:20190907T120000
DTSTAMP;VALUE=DATE-TIME:20260426T033013Z
UID:445b8b2e20e5fe7de8d62934e4d6394f
CREATED;VALUE=DATE-TIME:20190907T000000Z
LOCATION:Fundació Palau
DESCRIPTION:&OpenCurlyDoubleQuote;Insula Lux&CloseCurlyDoubleQuote; és una mostra que reuneix 25 olis i 40 fotografies que es divideixen en dues parts, una primera introducció a l´obra de l´artista Antoni Taulé
URL:https://caldetes.cat/document.php?id=7410
END:VEVENT
END:VCALENDAR