BEGIN:VCALENDAR
VERSION:2.0
PRODID:-//Plone.org//NONSGML plone.app.event//EN
X-WR-TIMEZONE:Europe/Madrid
BEGIN:VEVENT
SUMMARY:"Som creatius" i solidaris
DTSTART;TZID=Europe/Madrid;VALUE=DATE-TIME:20100907T170000
DTEND;TZID=Europe/Madrid;VALUE=DATE-TIME:20100907T180000
DTSTAMP;VALUE=DATE-TIME:20260424T042044Z
UID:c24f2a1c59327504c8c3234485090ce8
CREATED;VALUE=DATE-TIME:20100907T000000Z
LOCATION:Equipament de Promoció Econòmica i Cultural
ORGANIZER:Regidoria de Serveis Socials
URL:https://caldetes.cat/document.php?id=742
END:VEVENT
END:VCALENDAR