BEGIN:VCALENDAR
VERSION:2.0
PRODID:-//Plone.org//NONSGML plone.app.event//EN
X-WR-TIMEZONE:Europe/Madrid
BEGIN:VEVENT
SUMMARY:Campanya anual de prevenció del glaucoma i degeneració macular associada a l'edat DMAE
DTSTART;TZID=Europe/Madrid;VALUE=DATE-TIME:20190924T000000
DTEND;TZID=Europe/Madrid;VALUE=DATE-TIME:20190924T010000
DTSTAMP;VALUE=DATE-TIME:20260422T135206Z
UID:adeb94add8865c7ba4ceff34138e5e8b
CREATED;VALUE=DATE-TIME:20190924T000000Z
LOCATION:Esplanada Can Muntanyà
ORGANIZER:Fundació IOTT en col·laboració amb l'Ajuntament de Caldes d'Estrac
COMMENT:Durada: De 10h a 14h i de 15 a 17h
DESCRIPTION:Fundació IOTT
URL:https://caldetes.cat/document.php?id=7430
END:VEVENT
END:VCALENDAR