BEGIN:VCALENDAR
VERSION:2.0
PRODID:-//Plone.org//NONSGML plone.app.event//EN
X-WR-TIMEZONE:Europe/Madrid
BEGIN:VEVENT
SUMMARY:HORA DEL CONTE: &OpenCurlyDoubleQuote;Els sons robats&CloseCurlyDoubleQuote;
DTSTART;TZID=Europe/Madrid;VALUE=DATE-TIME:20191108T180000
DTEND;TZID=Europe/Madrid;VALUE=DATE-TIME:20191108T190000
DTSTAMP;VALUE=DATE-TIME:20260424T210544Z
UID:efc0c45097182cd9cf9788fc217af9e6
CREATED;VALUE=DATE-TIME:20191108T000000Z
CATEGORIES:Literatura,Infantils
LOCATION:Biblioteca Can Milans - C/ Esglèsia, 6
ORGANIZER:Biblioteca Can Milans
COMMENT:Preu: Gratuït
DESCRIPTION:A càrrec d´Eva González
URL:https://caldetes.cat/document.php?id=7432
END:VEVENT
END:VCALENDAR