BEGIN:VCALENDAR
VERSION:2.0
PRODID:-//Plone.org//NONSGML plone.app.event//EN
X-WR-TIMEZONE:Europe/Madrid
BEGIN:VEVENT
SUMMARY:BIBLIOLAB/ TALLER DE CREACIÓ POÈTICA: &OpenCurlyDoubleQuote;Des Brossa´m&CloseCurlyDoubleQuote; per a infants"
DTSTART;TZID=Europe/Madrid;VALUE=DATE-TIME:20191015T100000
DTEND;TZID=Europe/Madrid;VALUE=DATE-TIME:20191015T110000
DTSTAMP;VALUE=DATE-TIME:20260426T020414Z
UID:abe9db8252590a701146ae75a32db258
CREATED;VALUE=DATE-TIME:20191015T000000Z
CATEGORIES:Cursos,Infantils
LOCATION:Biblioteca Can Milans - C/ Esglèsia, 6
ORGANIZER:Biblioteca Can Milans i Diputació de Barcelona
COMMENT:Preu: Gratuït
DESCRIPTION:A càrrec de ConCiencia
URL:https://caldetes.cat/document.php?id=7435
END:VEVENT
END:VCALENDAR